BEGIN:VCALENDAR
VERSION:2.0
PRODID:-//Cihui Chinese School - ECPv5.12.1//NONSGML v1.0//EN
CALSCALE:GREGORIAN
METHOD:PUBLISH
X-WR-CALNAME:Cihui Chinese School
X-ORIGINAL-URL:https://www.cihuichineseschool.com
X-WR-CALDESC:Events for Cihui Chinese School
BEGIN:VTIMEZONE
TZID:America/Halifax
BEGIN:DAYLIGHT
TZOFFSETFROM:-0400
TZOFFSETTO:-0300
TZNAME:ADT
DTSTART:20260308T060000
END:DAYLIGHT
BEGIN:STANDARD
TZOFFSETFROM:-0300
TZOFFSETTO:-0400
TZNAME:AST
DTSTART:20261101T050000
END:STANDARD
END:VTIMEZONE
BEGIN:VEVENT
DTSTART;VALUE=DATE:20260510
DTEND;VALUE=DATE:20260511
DTSTAMP:20260422T054933
CREATED:20221216T032834Z
LAST-MODIFIED:20260113T031340Z
UID:838-1778371200-1778457599@www.cihuichineseschool.com
SUMMARY:School Closed: Mother Day
DESCRIPTION:
URL:https://www.cihuichineseschool.com/event/school-closed-mother-day/
END:VEVENT
BEGIN:VEVENT
DTSTART;TZID=America/Halifax:20260517T132000
DTEND;TZID=America/Halifax:20260517T143000
DTSTAMP:20260422T054933
CREATED:20250118T032621Z
LAST-MODIFIED:20260113T031306Z
UID:832-1779024000-1779028200@www.cihuichineseschool.com
SUMMARY:Spring Semester Ends
DESCRIPTION:
URL:https://www.cihuichineseschool.com/event/spring-semester-ends/
END:VEVENT
END:VCALENDAR